BEGIN:VCALENDAR
VERSION:2.0
PRODID:-//Crowthorne Chess Club - ECPv6.15.20//NONSGML v1.0//EN
CALSCALE:GREGORIAN
METHOD:PUBLISH
X-ORIGINAL-URL:https://crowthornechess.org.uk
X-WR-CALDESC:Events for Crowthorne Chess Club
REFRESH-INTERVAL;VALUE=DURATION:PT1H
X-Robots-Tag:noindex
X-PUBLISHED-TTL:PT1H
BEGIN:VTIMEZONE
TZID:Europe/London
BEGIN:DAYLIGHT
TZOFFSETFROM:+0000
TZOFFSETTO:+0100
TZNAME:BST
DTSTART:20220327T010000
END:DAYLIGHT
BEGIN:STANDARD
TZOFFSETFROM:+0100
TZOFFSETTO:+0000
TZNAME:GMT
DTSTART:20221030T010000
END:STANDARD
BEGIN:DAYLIGHT
TZOFFSETFROM:+0000
TZOFFSETTO:+0100
TZNAME:BST
DTSTART:20230326T010000
END:DAYLIGHT
BEGIN:STANDARD
TZOFFSETFROM:+0100
TZOFFSETTO:+0000
TZNAME:GMT
DTSTART:20231029T010000
END:STANDARD
BEGIN:DAYLIGHT
TZOFFSETFROM:+0000
TZOFFSETTO:+0100
TZNAME:BST
DTSTART:20240331T010000
END:DAYLIGHT
BEGIN:STANDARD
TZOFFSETFROM:+0100
TZOFFSETTO:+0000
TZNAME:GMT
DTSTART:20241027T010000
END:STANDARD
BEGIN:DAYLIGHT
TZOFFSETFROM:+0000
TZOFFSETTO:+0100
TZNAME:BST
DTSTART:20250330T010000
END:DAYLIGHT
BEGIN:STANDARD
TZOFFSETFROM:+0100
TZOFFSETTO:+0000
TZNAME:GMT
DTSTART:20251026T010000
END:STANDARD
END:VTIMEZONE
BEGIN:VTIMEZONE
TZID:UTC
BEGIN:STANDARD
TZOFFSETFROM:+0000
TZOFFSETTO:+0000
TZNAME:UTC
DTSTART:20170101T000000
END:STANDARD
END:VTIMEZONE
BEGIN:VEVENT
DTSTART;VALUE=DATE:20240504
DTEND;VALUE=DATE:20240507
DTSTAMP:20260422T233635
CREATED:20240215T191255Z
LAST-MODIFIED:20240215T191255Z
UID:3755-1714780800-1715039999@crowthornechess.org.uk
SUMMARY:4NCL Weekend 5 2023/24 Season (Crowthorne A and B)
DESCRIPTION:The fifth and final 4NCL weekend for Crowthorne is on May 4-6. The A and B teams are playing on the same weekend and in the same location for these final rounds. Please refer to the 4NCL Site for more information.
URL:https://crowthornechess.org.uk/event/4ncl-weekend-5-2023-24-season-crowthorne-a-and-b/
CATEGORIES:4NCL
END:VEVENT
BEGIN:VEVENT
DTSTART;VALUE=DATE:20240316
DTEND;VALUE=DATE:20240318
DTSTAMP:20260422T233635
CREATED:20240215T190323Z
LAST-MODIFIED:20240215T190323Z
UID:3751-1710547200-1710719999@crowthornechess.org.uk
SUMMARY:4NCL Weekend 4 2023/24 Season (Crowthorne A)
DESCRIPTION:The fourth 4NCL weekend for Crowthorne A is on March 16-17. Note that the A and B teams play in different locations and on different dates for rounds 7-8. Please refer to the 4NCL Site for more information.
URL:https://crowthornechess.org.uk/event/4ncl-weekend-4-2023-24-season-crowthorne-a/
CATEGORIES:4NCL
END:VEVENT
BEGIN:VEVENT
DTSTART;VALUE=DATE:20240309
DTEND;VALUE=DATE:20240311
DTSTAMP:20260422T233635
CREATED:20240215T190827Z
LAST-MODIFIED:20240215T190827Z
UID:3753-1709942400-1710115199@crowthornechess.org.uk
SUMMARY:4NCL Weekend 4 2023/24 Season (Crowthorne B)
DESCRIPTION:The fourth 4NCL weekend for Crowthorne B is on March 9-10. Note that the A and B teams play in different locations and on different dates for rounds 3-4. Please refer to the 4NCL Site for more information.
URL:https://crowthornechess.org.uk/event/4ncl-weekend-4-2023-24-season-crowthorne-b/
CATEGORIES:4NCL
END:VEVENT
BEGIN:VEVENT
DTSTART;VALUE=DATE:20240210
DTEND;VALUE=DATE:20240212
DTSTAMP:20260422T233635
CREATED:20231125T121852Z
LAST-MODIFIED:20231125T121951Z
UID:3647-1707523200-1707695999@crowthornechess.org.uk
SUMMARY:4NCL Weekend 3 2023/24 Season (Crowthorne A and B)
DESCRIPTION:The third 4NCL weekend for Crowthorne is on February 10-11. Though the A and B teams are playing on the same weekend\, they are in different locations. Please refer to the 4NCL Site for more information.
URL:https://crowthornechess.org.uk/event/4ncl-weekend-2-2023-24-season-crowthorne-a-and-b/
CATEGORIES:4NCL
END:VEVENT
BEGIN:VEVENT
DTSTART;VALUE=DATE:20240113
DTEND;VALUE=DATE:20240115
DTSTAMP:20260422T233635
CREATED:20231108T095718Z
LAST-MODIFIED:20231108T100025Z
UID:3603-1705104000-1705276799@crowthornechess.org.uk
SUMMARY:4NCL Weekend 2 2023/24 Season (Crowthorne A)
DESCRIPTION:The second 4NCL weekend for Crowthorne A is on January 13-14. Note that the A and B teams play in different locations and on different dates for rounds 3-4. Please refer to the 4NCL Site for more information.
URL:https://crowthornechess.org.uk/event/4ncl-weekend-2-2023-24-season-crowthorne-a/
CATEGORIES:4NCL
END:VEVENT
BEGIN:VEVENT
DTSTART;VALUE=DATE:20240106
DTEND;VALUE=DATE:20240108
DTSTAMP:20260422T233635
CREATED:20231108T095353Z
LAST-MODIFIED:20231108T095353Z
UID:3600-1704499200-1704671999@crowthornechess.org.uk
SUMMARY:4NCL Weekend 2 2023/24 Season (Crowthorne B)
DESCRIPTION:The second 4NCL weekend for Crowthorne B is on January 6-7. Note that the A and B teams play in different locations and on different dates for rounds 3-4. Please refer to the 4NCL Site for more information.
URL:https://crowthornechess.org.uk/event/4ncl-weekend-2-2023-24-season-crowthorne-b/
CATEGORIES:4NCL
END:VEVENT
BEGIN:VEVENT
DTSTART;VALUE=DATE:20231118
DTEND;VALUE=DATE:20231120
DTSTAMP:20260422T233635
CREATED:20231108T094914Z
LAST-MODIFIED:20231108T095855Z
UID:3598-1700265600-1700438399@crowthornechess.org.uk
SUMMARY:4NCL Weekend 1 2023/24 Season (Crowthorne B)
DESCRIPTION:The first 4NCL weekend for Crowthorne B is on November 18-19. Note that the A and B teams play in different locations and on different dates for rounds 1-2. Please refer to the 4NCL Site for more information.
URL:https://crowthornechess.org.uk/event/4ncl-weekend-1-2023-24-season-crowthorne-b/
CATEGORIES:4NCL
END:VEVENT
BEGIN:VEVENT
DTSTART;VALUE=DATE:20231111
DTEND;VALUE=DATE:20231113
DTSTAMP:20260422T233635
CREATED:20231108T093319Z
LAST-MODIFIED:20231108T095840Z
UID:3594-1699660800-1699833599@crowthornechess.org.uk
SUMMARY:4NCL Weekend 1 2023/24 Season (Crowthorne A)
DESCRIPTION:The first 4NCL weekend for Crowthorne A is on November 11-12. Note that the A and B teams play in different locations and on different dates for rounds 1-2. Please refer to the 4NCL Site for more information.
URL:https://crowthornechess.org.uk/event/4ncl-weekend-1-2023-24-season-crowthorne-a/
CATEGORIES:4NCL
END:VEVENT
BEGIN:VEVENT
DTSTART;VALUE=DATE:20230429
DTEND;VALUE=DATE:20230502
DTSTAMP:20260422T233635
CREATED:20230404T093351Z
LAST-MODIFIED:20230404T093827Z
UID:3365-1682726400-1682985599@crowthornechess.org.uk
SUMMARY:Final 4NCL Weekend 2022/23 Season
DESCRIPTION:The fifth and final weekend takes place over the Early May Bank Holiday weekend of 29th April-1st May. The A and B teams are in different locations (Milton Keynes and Warwick respectively)\, please refer to the 4NCL Site for more information.
URL:https://crowthornechess.org.uk/event/final-4ncl-weekend-2022-23-season/
CATEGORIES:4NCL
END:VEVENT
BEGIN:VEVENT
DTSTART;VALUE=DATE:20200508
DTEND;VALUE=DATE:20200511
DTSTAMP:20260422T233635
CREATED:20190621T154458Z
LAST-MODIFIED:20200317T133424Z
UID:1629-1588896000-1589155199@crowthornechess.org.uk
SUMMARY:4NCL Weekend 5 - POSTPONED
DESCRIPTION:***POSTPONED***\nOwing to coronavirus 4NCL has postponed the fourth and fifth weekends of the 2019/2020 season. 4NCL will update teams when a new date has been set. Check the 4NCL website for latest news.
URL:https://crowthornechess.org.uk/event/4ncl-weekend-5/
LOCATION:Mercure Daventry Court Hotel\, Sedgemoor Way\, Daventry\, NN110SG\, United Kingdom
CATEGORIES:4NCL
END:VEVENT
BEGIN:VEVENT
DTSTART;VALUE=DATE:20200405
DTEND;VALUE=DATE:20200406
DTSTAMP:20260422T233635
CREATED:20190621T154305Z
LAST-MODIFIED:20200317T134925Z
UID:1627-1586044800-1586131199@crowthornechess.org.uk
SUMMARY:4NCL Weekend 4 - POSTPONED
DESCRIPTION:***POSTPONED*** \nOwing to coronavirus 4NCL has postponed the fourth and fifth weekends of the 2019/2020 season. 4NCL will update teams when a new date has been set. Check the 4NCL website for latest news.
URL:https://crowthornechess.org.uk/event/4ncl-weekend-4/
LOCATION:Mercure Daventry Court Hotel\, Sedgemoor Way\, Daventry\, NN110SG\, United Kingdom
CATEGORIES:4NCL
END:VEVENT
BEGIN:VEVENT
DTSTART;VALUE=DATE:20200208
DTEND;VALUE=DATE:20200210
DTSTAMP:20260422T233635
CREATED:20190621T154040Z
LAST-MODIFIED:20190621T154613Z
UID:1624-1581120000-1581292799@crowthornechess.org.uk
SUMMARY:4NCL Weekend 3
DESCRIPTION:Third 4NCL weekend for the 2019/2020 season. Rounds 5 and 6 for Divisions 3 South and 4 South (these divisions are relevant for Crowthorne teams. Note that other divisions may play on other dates and/or at a different location).
URL:https://crowthornechess.org.uk/event/4ncl-weekend-3/
LOCATION:Holiday Inn Maidenhead/Windsor\, Manor Lane\, Maidenhead\, Berkshire\, SL6 2RA\, United Kingdom
CATEGORIES:4NCL
END:VEVENT
BEGIN:VEVENT
DTSTART;VALUE=DATE:20200111
DTEND;VALUE=DATE:20200113
DTSTAMP:20260422T233635
CREATED:20190621T153835Z
LAST-MODIFIED:20190621T153835Z
UID:1622-1578700800-1578873599@crowthornechess.org.uk
SUMMARY:4NCL Weekend 2
DESCRIPTION:Second 4NCL weekend for the 2019/2020 season. Rounds 3 and 4 for Divisions 3 South and 4 South (these divisions are relevant for Crowthorne teams. Note that other divisions may play on other dates and/or at a different location).
URL:https://crowthornechess.org.uk/event/4ncl-weekend-2/
LOCATION:Holiday Inn Maidenhead/Windsor\, Manor Lane\, Maidenhead\, Berkshire\, SL6 2RA\, United Kingdom
CATEGORIES:4NCL
END:VEVENT
BEGIN:VEVENT
DTSTART;VALUE=DATE:20191109
DTEND;VALUE=DATE:20191111
DTSTAMP:20260422T233635
CREATED:20190621T153407Z
LAST-MODIFIED:20190621T153408Z
UID:1619-1573257600-1573430399@crowthornechess.org.uk
SUMMARY:4NCL Weekend 1
DESCRIPTION:First 4NCL weekend for the 2019/2020 season. Rounds 1 and 2 for Divisions 3 South and 4 South (these divisions are relevant for Crowthorne teams. Note that other divisions may play on other dates and/or at a different location).
URL:https://crowthornechess.org.uk/event/4ncl-weekend-1/
LOCATION:Holiday Inn Maidenhead/Windsor\, Manor Lane\, Maidenhead\, Berkshire\, SL6 2RA\, United Kingdom
CATEGORIES:4NCL
END:VEVENT
BEGIN:VEVENT
DTSTART;VALUE=DATE:20190504
DTEND;VALUE=DATE:20190507
DTSTAMP:20260422T233635
CREATED:20190124T175242Z
LAST-MODIFIED:20190207T091056Z
UID:1250-1556928000-1557187199@crowthornechess.org.uk
SUMMARY:4NCL 5th and Final Weekend (all divisions)
DESCRIPTION:Fifth and final 4NCL weekend for the 2018/2019 season. Rounds 9-11 for all divisions (both Crowthorne teams are in Division 4 South).
URL:https://crowthornechess.org.uk/event/1250/
LOCATION:Mercure Daventry Court Hotel\, Sedgemoor Way\, Daventry\, NN110SG\, United Kingdom
CATEGORIES:4NCL
END:VEVENT
BEGIN:VEVENT
DTSTART;VALUE=DATE:20190413
DTEND;VALUE=DATE:20190415
DTSTAMP:20260422T233635
CREATED:20190124T174742Z
LAST-MODIFIED:20190124T175355Z
UID:1248-1555113600-1555286399@crowthornechess.org.uk
SUMMARY:4NCL 4th Weekend (Divisions 3 and 4 South only)
DESCRIPTION:Fourth 4NCL weekend for the 2018/2019 season. Rounds 7 and 8 for divisions 3 and 4 South (both Crowthorne teams are in Division 4 South).
URL:https://crowthornechess.org.uk/event/4ncl-4th-weekend-divisions-3-and-4-south-only/
LOCATION:Mercure Daventry Court Hotel\, Sedgemoor Way\, Daventry\, NN110SG\, United Kingdom
CATEGORIES:4NCL
END:VEVENT
BEGIN:VEVENT
DTSTART;VALUE=DATE:20190209
DTEND;VALUE=DATE:20190211
DTSTAMP:20260422T233635
CREATED:20190124T173431Z
LAST-MODIFIED:20190124T174241Z
UID:1242-1549670400-1549843199@crowthornechess.org.uk
SUMMARY:4NCL 3rd Weekend (all divisions)
DESCRIPTION:Third 4NCL weekend for the 2018/2019 season. Rounds 5 and 6 for all divisions (both Crowthorne teams are in Division 4 South).
URL:https://crowthornechess.org.uk/event/4ncl-3rd-weekend-all-divisions/
LOCATION:Mercure Daventry Court Hotel\, Sedgemoor Way\, Daventry\, NN110SG\, United Kingdom
CATEGORIES:4NCL
END:VEVENT
BEGIN:VEVENT
DTSTART;VALUE=DATE:20180505
DTEND;VALUE=DATE:20180508
DTSTAMP:20260422T233635
CREATED:20180214T141958Z
LAST-MODIFIED:20190124T174152Z
UID:975-1525478400-1525737599@crowthornechess.org.uk
SUMMARY:4NCL Weekend 5 (all divisions)
DESCRIPTION:Final 4NCL weekend for the 2017/2018 season. Rounds 9-11 for all divisions (Crowthorne is in Division 4 South).
URL:https://crowthornechess.org.uk/event/4ncl-weekend-5-all-divisions/
LOCATION:De Vere Wokefield Estate\, Wokefield Park\, Goodboys Lane\, Mortimer\, Berkshire\, RG7 3AE
CATEGORIES:4NCL
END:VEVENT
BEGIN:VEVENT
DTSTART;VALUE=DATE:20180324
DTEND;VALUE=DATE:20180326
DTSTAMP:20260422T233635
CREATED:20180214T140936Z
LAST-MODIFIED:20180214T142729Z
UID:972-1521849600-1522022399@crowthornechess.org.uk
SUMMARY:4NCL Weekend 4 (Division 4 South)
DESCRIPTION:Rounds 7-8 for Divisions 3 and 4 South (Crowthorne is in Division 4 South).
URL:https://crowthornechess.org.uk/event/4ncl-weekend-4-division-4-south/
LOCATION:De Vere Wokefield Estate\, Wokefield Park\, Goodboys Lane\, Mortimer\, Berkshire\, RG7 3AE
CATEGORIES:4NCL
END:VEVENT
END:VCALENDAR