BEGIN:VCALENDAR
VERSION:2.0
PRODID:-//Crowthorne Chess Club - ECPv6.15.20//NONSGML v1.0//EN
CALSCALE:GREGORIAN
METHOD:PUBLISH
X-WR-CALNAME:Crowthorne Chess Club
X-ORIGINAL-URL:https://crowthornechess.org.uk
X-WR-CALDESC:Events for Crowthorne Chess Club
REFRESH-INTERVAL;VALUE=DURATION:PT1H
X-Robots-Tag:noindex
X-PUBLISHED-TTL:PT1H
BEGIN:VTIMEZONE
TZID:UTC
BEGIN:STANDARD
TZOFFSETFROM:+0000
TZOFFSETTO:+0000
TZNAME:UTC
DTSTART:20170101T000000
END:STANDARD
END:VTIMEZONE
BEGIN:VEVENT
DTSTART;VALUE=DATE:20200405
DTEND;VALUE=DATE:20200406
DTSTAMP:20260422T233429
CREATED:20190621T154305Z
LAST-MODIFIED:20200317T134925Z
UID:1627-1586044800-1586131199@crowthornechess.org.uk
SUMMARY:4NCL Weekend 4 - POSTPONED
DESCRIPTION:***POSTPONED*** \nOwing to coronavirus 4NCL has postponed the fourth and fifth weekends of the 2019/2020 season. 4NCL will update teams when a new date has been set. Check the 4NCL website for latest news.
URL:https://crowthornechess.org.uk/event/4ncl-weekend-4/
LOCATION:Mercure Daventry Court Hotel\, Sedgemoor Way\, Daventry\, NN110SG\, United Kingdom
CATEGORIES:4NCL
END:VEVENT
BEGIN:VEVENT
DTSTART;VALUE=DATE:20200208
DTEND;VALUE=DATE:20200210
DTSTAMP:20260422T233429
CREATED:20190621T154040Z
LAST-MODIFIED:20190621T154613Z
UID:1624-1581120000-1581292799@crowthornechess.org.uk
SUMMARY:4NCL Weekend 3
DESCRIPTION:Third 4NCL weekend for the 2019/2020 season. Rounds 5 and 6 for Divisions 3 South and 4 South (these divisions are relevant for Crowthorne teams. Note that other divisions may play on other dates and/or at a different location).
URL:https://crowthornechess.org.uk/event/4ncl-weekend-3/
LOCATION:Holiday Inn Maidenhead/Windsor\, Manor Lane\, Maidenhead\, Berkshire\, SL6 2RA\, United Kingdom
CATEGORIES:4NCL
END:VEVENT
BEGIN:VEVENT
DTSTART;VALUE=DATE:20200111
DTEND;VALUE=DATE:20200113
DTSTAMP:20260422T233429
CREATED:20190621T153835Z
LAST-MODIFIED:20190621T153835Z
UID:1622-1578700800-1578873599@crowthornechess.org.uk
SUMMARY:4NCL Weekend 2
DESCRIPTION:Second 4NCL weekend for the 2019/2020 season. Rounds 3 and 4 for Divisions 3 South and 4 South (these divisions are relevant for Crowthorne teams. Note that other divisions may play on other dates and/or at a different location).
URL:https://crowthornechess.org.uk/event/4ncl-weekend-2/
LOCATION:Holiday Inn Maidenhead/Windsor\, Manor Lane\, Maidenhead\, Berkshire\, SL6 2RA\, United Kingdom
CATEGORIES:4NCL
END:VEVENT
BEGIN:VEVENT
DTSTART;VALUE=DATE:20191109
DTEND;VALUE=DATE:20191111
DTSTAMP:20260422T233429
CREATED:20190621T153407Z
LAST-MODIFIED:20190621T153408Z
UID:1619-1573257600-1573430399@crowthornechess.org.uk
SUMMARY:4NCL Weekend 1
DESCRIPTION:First 4NCL weekend for the 2019/2020 season. Rounds 1 and 2 for Divisions 3 South and 4 South (these divisions are relevant for Crowthorne teams. Note that other divisions may play on other dates and/or at a different location).
URL:https://crowthornechess.org.uk/event/4ncl-weekend-1/
LOCATION:Holiday Inn Maidenhead/Windsor\, Manor Lane\, Maidenhead\, Berkshire\, SL6 2RA\, United Kingdom
CATEGORIES:4NCL
END:VEVENT
BEGIN:VEVENT
DTSTART;VALUE=DATE:20190504
DTEND;VALUE=DATE:20190507
DTSTAMP:20260422T233429
CREATED:20190124T175242Z
LAST-MODIFIED:20190207T091056Z
UID:1250-1556928000-1557187199@crowthornechess.org.uk
SUMMARY:4NCL 5th and Final Weekend (all divisions)
DESCRIPTION:Fifth and final 4NCL weekend for the 2018/2019 season. Rounds 9-11 for all divisions (both Crowthorne teams are in Division 4 South).
URL:https://crowthornechess.org.uk/event/1250/
LOCATION:Mercure Daventry Court Hotel\, Sedgemoor Way\, Daventry\, NN110SG\, United Kingdom
CATEGORIES:4NCL
END:VEVENT
BEGIN:VEVENT
DTSTART;VALUE=DATE:20190413
DTEND;VALUE=DATE:20190415
DTSTAMP:20260422T233429
CREATED:20190124T174742Z
LAST-MODIFIED:20190124T175355Z
UID:1248-1555113600-1555286399@crowthornechess.org.uk
SUMMARY:4NCL 4th Weekend (Divisions 3 and 4 South only)
DESCRIPTION:Fourth 4NCL weekend for the 2018/2019 season. Rounds 7 and 8 for divisions 3 and 4 South (both Crowthorne teams are in Division 4 South).
URL:https://crowthornechess.org.uk/event/4ncl-4th-weekend-divisions-3-and-4-south-only/
LOCATION:Mercure Daventry Court Hotel\, Sedgemoor Way\, Daventry\, NN110SG\, United Kingdom
CATEGORIES:4NCL
END:VEVENT
BEGIN:VEVENT
DTSTART;VALUE=DATE:20190209
DTEND;VALUE=DATE:20190211
DTSTAMP:20260422T233429
CREATED:20190124T173431Z
LAST-MODIFIED:20190124T174241Z
UID:1242-1549670400-1549843199@crowthornechess.org.uk
SUMMARY:4NCL 3rd Weekend (all divisions)
DESCRIPTION:Third 4NCL weekend for the 2018/2019 season. Rounds 5 and 6 for all divisions (both Crowthorne teams are in Division 4 South).
URL:https://crowthornechess.org.uk/event/4ncl-3rd-weekend-all-divisions/
LOCATION:Mercure Daventry Court Hotel\, Sedgemoor Way\, Daventry\, NN110SG\, United Kingdom
CATEGORIES:4NCL
END:VEVENT
BEGIN:VEVENT
DTSTART;VALUE=DATE:20180505
DTEND;VALUE=DATE:20180508
DTSTAMP:20260422T233429
CREATED:20180214T141958Z
LAST-MODIFIED:20190124T174152Z
UID:975-1525478400-1525737599@crowthornechess.org.uk
SUMMARY:4NCL Weekend 5 (all divisions)
DESCRIPTION:Final 4NCL weekend for the 2017/2018 season. Rounds 9-11 for all divisions (Crowthorne is in Division 4 South).
URL:https://crowthornechess.org.uk/event/4ncl-weekend-5-all-divisions/
LOCATION:De Vere Wokefield Estate\, Wokefield Park\, Goodboys Lane\, Mortimer\, Berkshire\, RG7 3AE
CATEGORIES:4NCL
END:VEVENT
BEGIN:VEVENT
DTSTART;VALUE=DATE:20180324
DTEND;VALUE=DATE:20180326
DTSTAMP:20260422T233429
CREATED:20180214T140936Z
LAST-MODIFIED:20180214T142729Z
UID:972-1521849600-1522022399@crowthornechess.org.uk
SUMMARY:4NCL Weekend 4 (Division 4 South)
DESCRIPTION:Rounds 7-8 for Divisions 3 and 4 South (Crowthorne is in Division 4 South).
URL:https://crowthornechess.org.uk/event/4ncl-weekend-4-division-4-south/
LOCATION:De Vere Wokefield Estate\, Wokefield Park\, Goodboys Lane\, Mortimer\, Berkshire\, RG7 3AE
CATEGORIES:4NCL
END:VEVENT
END:VCALENDAR