BEGIN:VCALENDAR
VERSION:2.0
PRODID:-//Crowthorne Chess Club - ECPv6.15.20//NONSGML v1.0//EN
CALSCALE:GREGORIAN
METHOD:PUBLISH
X-WR-CALNAME:Crowthorne Chess Club
X-ORIGINAL-URL:https://crowthornechess.org.uk
X-WR-CALDESC:Events for Crowthorne Chess Club
REFRESH-INTERVAL;VALUE=DURATION:PT1H
X-Robots-Tag:noindex
X-PUBLISHED-TTL:PT1H
BEGIN:VTIMEZONE
TZID:UTC
BEGIN:STANDARD
TZOFFSETFROM:+0000
TZOFFSETTO:+0000
TZNAME:UTC
DTSTART:20170101T000000
END:STANDARD
END:VTIMEZONE
BEGIN:VEVENT
DTSTART;TZID=UTC:20190724T193000
DTEND;TZID=UTC:20190724T223000
DTSTAMP:20260422T230820
CREATED:20190722T001143Z
LAST-MODIFIED:20190722T002240Z
UID:1830-1563996600-1564007400@crowthornechess.org.uk
SUMMARY:Summer event: Mini Rapid Trompowsky Tournament
DESCRIPTION:This coming Wednesday’s summer event will be a restricted opening rapid tournament. The opening will be fixed with 2 moves (for each player) into the Trompowsky: \n1.  d4  Nf6\n2.  Bg5  Ne4 \nExciting stuff. Expect varied results. \nIf this works as a format we could try other fixed opening mini tournaments. Interesting gambit lines have been suggested.
URL:https://crowthornechess.org.uk/event/summer-event-mini-rapid-trompowsky-tournament/
LOCATION:Room PE1\, Wellington College\, Crowthorne\, Berkshire
CATEGORIES:Club Competitions,Summer Lecture,Tournament
END:VEVENT
BEGIN:VEVENT
DTSTART;TZID=UTC:20190717T193000
DTEND;TZID=UTC:20190717T230000
DTSTAMP:20260422T230820
CREATED:20190717T141042Z
LAST-MODIFIED:20190717T141043Z
UID:1802-1563391800-1563404400@crowthornechess.org.uk
SUMMARY:Summer event: endgame studies
DESCRIPTION:For the next summer event\, we will have a talk from Richard going through some endgame studies\, which should be both educational and entertaining.
URL:https://crowthornechess.org.uk/event/summer-event-endgame-studies/
LOCATION:Berkshire
CATEGORIES:Summer Lecture
END:VEVENT
BEGIN:VEVENT
DTSTART;TZID=UTC:20180829T193000
DTEND;TZID=UTC:20180829T210000
DTSTAMP:20260422T230820
CREATED:20180827T213759Z
LAST-MODIFIED:20180827T213902Z
UID:1154-1535571000-1535576400@crowthornechess.org.uk
SUMMARY:Summer Lecture: Curious Positions and items of interest
DESCRIPTION:This week John Upham will dip into his encyclopaedic chess knowledge to present curious positions and other items of interest. Novel for sure\, educational most likely\, and entertaining without doubt. All club members are invited.
URL:https://crowthornechess.org.uk/event/summer-lecture-curious-positions-and-items-of-interest/
LOCATION:Berkshire
CATEGORIES:Summer Lecture
END:VEVENT
BEGIN:VEVENT
DTSTART;TZID=UTC:20180822T193000
DTEND;TZID=UTC:20180822T210000
DTSTAMP:20260422T230820
CREATED:20180821T121743Z
LAST-MODIFIED:20180821T121743Z
UID:1136-1534966200-1534971600@crowthornechess.org.uk
SUMMARY:Chess Summer Lecture: The Game of Thrills
DESCRIPTION:All club members are invited to the summer lectures. This week Mark Taylor will go through one of his “interesting” games.
URL:https://crowthornechess.org.uk/event/chess-summer-lecture-the-game-of-thrills/
LOCATION:Crowthorne Chess Club usual room
CATEGORIES:Summer Lecture
END:VEVENT
BEGIN:VEVENT
DTSTART;TZID=UTC:20180815T193000
DTEND;TZID=UTC:20180815T203000
DTSTAMP:20260422T230820
CREATED:20180810T150119Z
LAST-MODIFIED:20180810T150119Z
UID:1133-1534361400-1534365000@crowthornechess.org.uk
SUMMARY:Chess Summer Lecture: Playing Bad Positions
DESCRIPTION:Colin will talk about playing bad positions\, using the wealth of experience from his own games as examples.
URL:https://crowthornechess.org.uk/event/chess-summer-lecture-playing-bad-positions/
LOCATION:Berkshire
CATEGORIES:Summer Lecture
END:VEVENT
BEGIN:VEVENT
DTSTART;TZID=UTC:20180801T193000
DTEND;TZID=UTC:20180801T203000
DTSTAMP:20260422T230820
CREATED:20180731T214705Z
LAST-MODIFIED:20180731T214806Z
UID:1112-1533151800-1533155400@crowthornechess.org.uk
SUMMARY:Chess Summer Lecture: Louise Head's games in the Czech Open
DESCRIPTION:Congratulations to Louise Head for her stunning performance in the Czech Open over the last few weeks. Against strong opposition comprising of international masters\, FIDE masters and grandmasters\, Louise scored 5 out of 9 for a performance rating of 2382 ELO (224 ECF). \nLouise will be in the club this week to go through some of her games. Club members are asked to come along and see the inside thoughts when playing against such high-level opposition.
URL:https://crowthornechess.org.uk/event/chess-summer-lecture-louise-heads-games-in-the-czech-open/
LOCATION:Crowthorne Chess Club usual room
CATEGORIES:Summer Lecture
END:VEVENT
END:VCALENDAR